BEGIN:VCALENDAR
VERSION:2.0
PRODID:-//COMARA - ECPv6.15.20//NONSGML v1.0//EN
CALSCALE:GREGORIAN
METHOD:PUBLISH
X-WR-CALNAME:COMARA
X-ORIGINAL-URL:https://www.comara.org
X-WR-CALDESC:Events for COMARA
REFRESH-INTERVAL;VALUE=DURATION:PT1H
X-Robots-Tag:noindex
X-PUBLISHED-TTL:PT1H
BEGIN:VTIMEZONE
TZID:America/New_York
BEGIN:DAYLIGHT
TZOFFSETFROM:-0500
TZOFFSETTO:-0400
TZNAME:EDT
DTSTART:20190310T070000
END:DAYLIGHT
BEGIN:STANDARD
TZOFFSETFROM:-0400
TZOFFSETTO:-0500
TZNAME:EST
DTSTART:20191103T060000
END:STANDARD
BEGIN:DAYLIGHT
TZOFFSETFROM:-0500
TZOFFSETTO:-0400
TZNAME:EDT
DTSTART:20200308T070000
END:DAYLIGHT
BEGIN:STANDARD
TZOFFSETFROM:-0400
TZOFFSETTO:-0500
TZNAME:EST
DTSTART:20201101T060000
END:STANDARD
BEGIN:DAYLIGHT
TZOFFSETFROM:-0500
TZOFFSETTO:-0400
TZNAME:EDT
DTSTART:20210314T070000
END:DAYLIGHT
BEGIN:STANDARD
TZOFFSETFROM:-0400
TZOFFSETTO:-0500
TZNAME:EST
DTSTART:20211107T060000
END:STANDARD
END:VTIMEZONE
BEGIN:VEVENT
DTSTART;TZID=America/New_York:20201117T113000
DTEND;TZID=America/New_York:20201117T130000
DTSTAMP:20260423T154824
CREATED:20201006T142802Z
LAST-MODIFIED:20201006T145623Z
UID:6379-1605612600-1605618000@www.comara.org
SUMMARY:Upcoming Board Meeting
DESCRIPTION:Maury Mechanick will send out the Zoom link to Board members.
URL:https://www.comara.org/event/upcoming-board-meeting/
CATEGORIES:Board Meetings
END:VEVENT
BEGIN:VEVENT
DTSTART;TZID=America/New_York:20200714T073000
DTEND;TZID=America/New_York:20200714T090000
DTSTAMP:20260423T154824
CREATED:20200603T003501Z
LAST-MODIFIED:20200629T010729Z
UID:5766-1594711800-1594717200@www.comara.org
SUMMARY:Comara Board Meeting via Zoom
DESCRIPTION:Quarterly Board Meeting
URL:https://www.comara.org/event/comara-board-meeting-via-zoom/
CATEGORIES:Board Meetings
END:VEVENT
END:VCALENDAR